View In:
ArcGIS JavaScript
ArcGIS Online Map Viewer
ArcGIS Earth
Service Description: VCGI_services/TEST_RASTER_NOCACHING
Name: VCGI_services/TEST_RASTER_NOCACHING
Description:
Single Fused Map Cache: false
Extent:
XMin: -8168909.101625799
YMin: 5419264.604738867
XMax: -8166343.816375735
YMax: 5421838.772679548
Spatial Reference: 102100
(3857)
VCSWkid(5773)
LatestVCSWkid(5773)
Initial Extent:
XMin: -8168909.101625799
YMin: 5419264.604738867
XMax: -8166343.816375735
YMax: 5421838.772679548
Spatial Reference: 102100
(3857)
VCSWkid(5773)
LatestVCSWkid(5773)
Full Extent:
XMin: -8168909.101625799
YMin: 5419264.604738867
XMax: -8166343.816375735
YMax: 5421838.772679548
Spatial Reference: 102100
(3857)
VCSWkid(5773)
LatestVCSWkid(5773)
Pixel Size X: 0.3063027164255505
Pixel Size Y: 0.3063027059353723
Band Count: 4
Pixel Type: U8
RasterFunction Infos: {"rasterFunctionInfos": [{
"name": "None",
"description": "",
"help": ""
}]}
Mensuration Capabilities: Basic
Inspection Capabilities:
Has Histograms: true
Has Colormap: false
Has Multi Dimensions : false
Rendering Rule:
Min Scale: 0
Max Scale: 0
Copyright Text:
Service Data Type: esriImageServiceDataTypeGeneric
Min Values: 0, 0, 0, 0
Max Values: 255, 255, 255, 255
Mean Values: 63.19183139248399, 66.38660739454183, 68.11859168713379, 82.05189723768281
Standard Deviation Values: 27.784612401261292, 26.480088470002322, 24.20267638616764, 37.938045110748966
Object ID Field:
Fields:
None
Default Mosaic Method: Center
Allowed Mosaic Methods:
SortField:
SortValue: null
Mosaic Operator: First
Default Compression Quality: 75
Default Resampling Method: Bilinear
Max Record Count: null
Max Image Height: 4100
Max Image Width: 15000
Max Download Image Count: null
Max Mosaic Image Count: null
Allow Raster Function: true
Allow Copy: true
Allow Analysis: true
Allow Compute TiePoints: false
Supports Statistics: false
Supports Advanced Queries: false
Use StandardizedQueries: true
Raster Type Infos:
Name: Raster Dataset
Description: Supports all ArcGIS Raster Datasets
Help:
Has Raster Attribute Table: false
Edit Fields Info: null
Ownership Based AccessControl For Rasters: null
Child Resources:
Info
Histograms
Statistics
Key Properties
Legend
Raster Function Infos
Supported Operations:
Export Image
Identify
Measure
Compute Histograms
Compute Statistics Histograms
Get Samples
Compute Class Statistics
Query Boundary
Compute Pixel Location
Compute Angles
Validate
Project